BEGIN:VCALENDAR
VERSION:2.0
PRODID:-//Virginia Quarter Horse Association - ECPv6.15.20//NONSGML v1.0//EN
CALSCALE:GREGORIAN
METHOD:PUBLISH
X-ORIGINAL-URL:https://myvqha.com
X-WR-CALDESC:Events for Virginia Quarter Horse Association
REFRESH-INTERVAL;VALUE=DURATION:PT1H
X-Robots-Tag:noindex
X-PUBLISHED-TTL:PT1H
BEGIN:VTIMEZONE
TZID:UTC
BEGIN:STANDARD
TZOFFSETFROM:+0000
TZOFFSETTO:+0000
TZNAME:UTC
DTSTART:20240101T000000
END:STANDARD
END:VTIMEZONE
BEGIN:VEVENT
DTSTART;TZID=UTC:20250118T090000
DTEND;TZID=UTC:20250118T150000
DTSTAMP:20260423T092511
CREATED:20250110T202926Z
LAST-MODIFIED:20250110T202926Z
UID:4396-1737190800-1737212400@myvqha.com
SUMMARY:VQHA Board Planning Session
DESCRIPTION:Upcoming Board Planning Session: \nThe Board will be having a planning session in January to prepare for our 2025 year. We will be\nbringing the output from this session to the annual membership meeting at the banquet. \nWe did this two years ago and found it to be very helpful; many members joined us and brought\ntremendous insight to our discussion so we would like to extend an invite for any VQHA member to\nattend this session as well. \nWe do need to know if you are interested in attending so we can plan for how we run the session\n(and for snacks). Please go to this link to RSVP by Monday the 13th if you would like to attend:\nhttps://forms.gle/uj97ZiuvprD14HD18 \nIf you are not able to join\, no worries\, we put together a survey so we can get input from everyone we’ll be using responses for this session. Here’s the link to that survey:\nhttps://forms.gle/6zp17h4tF1ha5Eoc6 \nTentative Agenda for the session: \nWhere are we doing things well\, where can we improve? \nWhat are our top priorities to accomplish this year? Next 3 years? \nSpecific topics:\no Membership growth and engagement\no Leadership pipeline\no Modifications to the Show Contest and Rules\no Membership/points process(es)\no Financial processes\no Coordination of fundraising (at shows\, at the banquet)\no Communication (overall communications strategy\, how we handle social media\, logistics about\nshows\, communicating wins)\no Grants/grant funding\no Board structure/operating guidelines\no Youth structure (if we have enough youth parents attending – might need to do this separately) \nDate: Saturday January 18 th \, 9am – 3pm\nLocation: Comfort Suites at Virginia Center Commons \n10601 Telegraph Road\nGlen Allen \nQuestions: contact Beth (434-390-8433\, ewsmith84@gmail.com)
URL:https://myvqha.com/event/vqha-board-planning-session/
LOCATION:Comfort Suites at Virginia Center Commons\, 10601 Telegraph Road\, Glen Allen\, VA\, United States
CATEGORIES:2025 Events
END:VEVENT
END:VCALENDAR