BEGIN:VCALENDAR
VERSION:2.0
PRODID:-//Virginia Quarter Horse Association - ECPv6.15.20//NONSGML v1.0//EN
CALSCALE:GREGORIAN
METHOD:PUBLISH
X-ORIGINAL-URL:https://myvqha.com
X-WR-CALDESC:Events for Virginia Quarter Horse Association
REFRESH-INTERVAL;VALUE=DURATION:PT1H
X-Robots-Tag:noindex
X-PUBLISHED-TTL:PT1H
BEGIN:VTIMEZONE
TZID:UTC
BEGIN:STANDARD
TZOFFSETFROM:+0000
TZOFFSETTO:+0000
TZNAME:UTC
DTSTART:20240101T000000
END:STANDARD
END:VTIMEZONE
BEGIN:VEVENT
DTSTART;VALUE=DATE:20250417
DTEND;VALUE=DATE:20250421
DTSTAMP:20260423T043337
CREATED:20241112T140130Z
LAST-MODIFIED:20241112T140130Z
UID:4351-1744848000-1745193599@myvqha.com
SUMMARY:Spring Breakout
DESCRIPTION:
URL:https://myvqha.com/event/spring-breakout/
LOCATION:Virginia Horse Center\, 487 Maury River Road\, Lexington\, VA\, 24450\, United States
CATEGORIES:2025 Events
ATTACH;FMTTYPE=image/png:https://myvqha.com/wp-content/uploads/2021/11/breakout2-300x295-1.png
ORGANIZER;CN="AB Management Services":MAILTO:abshowmanagement@gmail.com
END:VEVENT
END:VCALENDAR