BEGIN:VCALENDAR
VERSION:2.0
PRODID:-//Virginia Quarter Horse Association - ECPv6.15.20//NONSGML v1.0//EN
CALSCALE:GREGORIAN
METHOD:PUBLISH
X-ORIGINAL-URL:https://myvqha.com
X-WR-CALDESC:Events for Virginia Quarter Horse Association
REFRESH-INTERVAL;VALUE=DURATION:PT1H
X-Robots-Tag:noindex
X-PUBLISHED-TTL:PT1H
BEGIN:VTIMEZONE
TZID:UTC
BEGIN:STANDARD
TZOFFSETFROM:+0000
TZOFFSETTO:+0000
TZNAME:UTC
DTSTART:20240101T000000
END:STANDARD
END:VTIMEZONE
BEGIN:VEVENT
DTSTART;TZID=UTC:20250813T190000
DTEND;TZID=UTC:20250813T203000
DTSTAMP:20260422T215640
CREATED:20250218T152924Z
LAST-MODIFIED:20250218T153221Z
UID:4420-1755111600-1755117000@myvqha.com
SUMMARY:VQHA Board Meeting
DESCRIPTION:“VQHA Board Meeting. Location: Virtual. Regularly called bimonthly Board meeting. All members are welcome to join; please let Emily Murphy know so that she can get you the Zoom link.”
URL:https://myvqha.com/event/vqha-board-meeting-3/
LOCATION:VA
CATEGORIES:2025 Events
END:VEVENT
END:VCALENDAR