BEGIN:VCALENDAR
VERSION:2.0
PRODID:-//Virginia Quarter Horse Association - ECPv6.15.20//NONSGML v1.0//EN
CALSCALE:GREGORIAN
METHOD:PUBLISH
X-ORIGINAL-URL:https://myvqha.com
X-WR-CALDESC:Events for Virginia Quarter Horse Association
REFRESH-INTERVAL;VALUE=DURATION:PT1H
X-Robots-Tag:noindex
X-PUBLISHED-TTL:PT1H
BEGIN:VTIMEZONE
TZID:America/New_York
BEGIN:DAYLIGHT
TZOFFSETFROM:-0500
TZOFFSETTO:-0400
TZNAME:EDT
DTSTART:20210314T070000
END:DAYLIGHT
BEGIN:STANDARD
TZOFFSETFROM:-0400
TZOFFSETTO:-0500
TZNAME:EST
DTSTART:20211107T060000
END:STANDARD
BEGIN:DAYLIGHT
TZOFFSETFROM:-0500
TZOFFSETTO:-0400
TZNAME:EDT
DTSTART:20220313T070000
END:DAYLIGHT
BEGIN:STANDARD
TZOFFSETFROM:-0400
TZOFFSETTO:-0500
TZNAME:EST
DTSTART:20221106T060000
END:STANDARD
BEGIN:DAYLIGHT
TZOFFSETFROM:-0500
TZOFFSETTO:-0400
TZNAME:EDT
DTSTART:20230312T070000
END:DAYLIGHT
BEGIN:STANDARD
TZOFFSETFROM:-0400
TZOFFSETTO:-0500
TZNAME:EST
DTSTART:20231105T060000
END:STANDARD
END:VTIMEZONE
BEGIN:VEVENT
DTSTART;VALUE=DATE:20220128
DTEND;VALUE=DATE:20220130
DTSTAMP:20260424T191735
CREATED:20211006T191731Z
LAST-MODIFIED:20211119T200318Z
UID:3308-1643328000-1643500799@myvqha.com
SUMMARY:Denim & Diamonds- 2022 VQHA Banquet
DESCRIPTION:https://myvqha.com/wp-content/uploads/2021/10/banquet_2021.mp4\n  \nTo book your room call the Fort Magruder Hotel and Conference Center at (757) 220-2250 and ask for the VQHA rate. \nClick Here to sign up for the Gift Basket Challenge. \nBanquet Table and Dinner Reservation Form \n 
URL:https://myvqha.com/event/denim-diamonds-2022-vqha-banquet/
LOCATION:Fort Magruder Hotel\, 6945 Pocahontas Trail\, Williamsburg\, VA\, 23185\, United States
CATEGORIES:2021 Events
END:VEVENT
END:VCALENDAR