BEGIN:VCALENDAR
VERSION:2.0
PRODID:-//Virginia Quarter Horse Association - ECPv6.15.20//NONSGML v1.0//EN
CALSCALE:GREGORIAN
METHOD:PUBLISH
X-WR-CALNAME:Virginia Quarter Horse Association
X-ORIGINAL-URL:https://myvqha.com
X-WR-CALDESC:Events for Virginia Quarter Horse Association
REFRESH-INTERVAL;VALUE=DURATION:PT1H
X-Robots-Tag:noindex
X-PUBLISHED-TTL:PT1H
BEGIN:VTIMEZONE
TZID:UTC
BEGIN:STANDARD
TZOFFSETFROM:+0000
TZOFFSETTO:+0000
TZNAME:UTC
DTSTART:20220101T000000
END:STANDARD
END:VTIMEZONE
BEGIN:VEVENT
DTSTART;TZID=UTC:20230704T190000
DTEND;TZID=UTC:20230704T210000
DTSTAMP:20260423T163125
CREATED:20230224T175404Z
LAST-MODIFIED:20230224T175412Z
UID:3863-1688497200-1688504400@myvqha.com
SUMMARY:VQHYA Membership Meeting
DESCRIPTION:This will be a Zoom meeting. Please contact one of the Youth Advisors for the Zoom link.
URL:https://myvqha.com/event/vqhya-membership-meeting-5/
LOCATION:Zoom Meeting
CATEGORIES:2023 Events
END:VEVENT
BEGIN:VEVENT
DTSTART;TZID=UTC:20230711T193000
DTEND;TZID=UTC:20230711T203000
DTSTAMP:20260423T163125
CREATED:20230224T203637Z
LAST-MODIFIED:20230224T203637Z
UID:3881-1689103800-1689107400@myvqha.com
SUMMARY:VQHA- Central Region Meeting
DESCRIPTION:This will be a Zoom meeting. Please contact your Region Director for the Zoom link.
URL:https://myvqha.com/event/vqha-central-region-meeting-2/
LOCATION:Zoom Meeting
CATEGORIES:2023 Events
END:VEVENT
BEGIN:VEVENT
DTSTART;VALUE=DATE:20230728
DTEND;VALUE=DATE:20230731
DTSTAMP:20260423T163125
CREATED:20230609T194357Z
LAST-MODIFIED:20230609T194357Z
UID:4084-1690502400-1690761599@myvqha.com
SUMMARY:Little River Circuit
DESCRIPTION:
URL:https://myvqha.com/event/little-river-circuit-2/
LOCATION:Senator Bob Martin Eastern Agricultural Center\, 2900 NC-125\, Williamston\, NC 27892\, Williamston\, North Carolina\, 27892\, United States
CATEGORIES:2023 Events
END:VEVENT
END:VCALENDAR