BEGIN:VCALENDAR
VERSION:2.0
PRODID:-//Virginia Quarter Horse Association - ECPv6.15.20//NONSGML v1.0//EN
CALSCALE:GREGORIAN
METHOD:PUBLISH
X-ORIGINAL-URL:https://myvqha.com
X-WR-CALDESC:Events for Virginia Quarter Horse Association
REFRESH-INTERVAL;VALUE=DURATION:PT1H
X-Robots-Tag:noindex
X-PUBLISHED-TTL:PT1H
BEGIN:VTIMEZONE
TZID:UTC
BEGIN:STANDARD
TZOFFSETFROM:+0000
TZOFFSETTO:+0000
TZNAME:UTC
DTSTART:20220101T000000
END:STANDARD
END:VTIMEZONE
BEGIN:VEVENT
DTSTART;TZID=UTC:20230801T190000
DTEND;TZID=UTC:20230801T210000
DTSTAMP:20260423T150647
CREATED:20230224T180249Z
LAST-MODIFIED:20230224T180249Z
UID:3865-1690916400-1690923600@myvqha.com
SUMMARY:VQHYA Membership Meeting
DESCRIPTION:This will be a Zoom meeting. Please contact one of the Youth Advisors for the Zoom link.
URL:https://myvqha.com/event/vqhya-membership-meeting-6/
LOCATION:Zoom Meeting
CATEGORIES:2023 Events
END:VEVENT
BEGIN:VEVENT
DTSTART;VALUE=DATE:20230818
DTEND;VALUE=DATE:20230821
DTSTAMP:20260423T150647
CREATED:20230607T143938Z
LAST-MODIFIED:20230607T143938Z
UID:4057-1692316800-1692575999@myvqha.com
SUMMARY:District V Endless Summer
DESCRIPTION:
URL:https://myvqha.com/event/district-v-endless-summer/
LOCATION:Senator Bob Martin Eastern Agricultural Center\, 2900 NC-125\, Williamston\, NC 27892\, Williamston\, North Carolina\, 27892\, United States
CATEGORIES:2023 Events
ATTACH;FMTTYPE=image/jpeg:https://myvqha.com/wp-content/uploads/2022/07/Endless-Summer.jpg
END:VEVENT
END:VCALENDAR