BEGIN:VCALENDAR
VERSION:2.0
PRODID:-//Virginia Quarter Horse Association - ECPv6.15.20//NONSGML v1.0//EN
CALSCALE:GREGORIAN
METHOD:PUBLISH
X-WR-CALNAME:Virginia Quarter Horse Association
X-ORIGINAL-URL:https://myvqha.com
X-WR-CALDESC:Events for Virginia Quarter Horse Association
REFRESH-INTERVAL;VALUE=DURATION:PT1H
X-Robots-Tag:noindex
X-PUBLISHED-TTL:PT1H
BEGIN:VTIMEZONE
TZID:UTC
BEGIN:STANDARD
TZOFFSETFROM:+0000
TZOFFSETTO:+0000
TZNAME:UTC
DTSTART:20220101T000000
END:STANDARD
END:VTIMEZONE
BEGIN:VEVENT
DTSTART;TZID=UTC:20230119T143000
DTEND;TZID=UTC:20230119T163000
DTSTAMP:20260424T035148
CREATED:20230119T231344Z
LAST-MODIFIED:20230119T231344Z
UID:3813-1674138600-1674145800@myvqha.com
SUMMARY:VQHA Annual General Membership Meeting
DESCRIPTION:
URL:https://myvqha.com/event/vqha-annual-general-membership-meeting/
LOCATION:Fort Magruder Hotel\, 6945 Pocahontas Trail\, Williamsburg\, VA\, 23185\, United States
CATEGORIES:2023 Events
END:VEVENT
END:VCALENDAR