BEGIN:VCALENDAR
VERSION:2.0
PRODID:-//Virginia Quarter Horse Association - ECPv6.15.20//NONSGML v1.0//EN
CALSCALE:GREGORIAN
METHOD:PUBLISH
X-WR-CALNAME:Virginia Quarter Horse Association
X-ORIGINAL-URL:https://myvqha.com
X-WR-CALDESC:Events for Virginia Quarter Horse Association
REFRESH-INTERVAL;VALUE=DURATION:PT1H
X-Robots-Tag:noindex
X-PUBLISHED-TTL:PT1H
BEGIN:VTIMEZONE
TZID:UTC
BEGIN:STANDARD
TZOFFSETFROM:+0000
TZOFFSETTO:+0000
TZNAME:UTC
DTSTART:20220101T000000
END:STANDARD
END:VTIMEZONE
BEGIN:VEVENT
DTSTART;VALUE=DATE:20230203
DTEND;VALUE=DATE:20230205
DTSTAMP:20260424T021015
CREATED:20221110T163101Z
LAST-MODIFIED:20230119T230349Z
UID:3768-1675382400-1675555199@myvqha.com
SUMMARY:Mardi Gras Party- 2023 VQHA Banquet
DESCRIPTION:Please everyone plan to attend!!! Bring the family and a new member or friends everyone is welcome!!!!! Please Share and get the word out. Silent auction and the Basket Challenge is back to win a free stall at the Breakout!! Youth\, Amateur and General meetings during the day and Awards banquet Saturday night plus a super awesome DJ! Plus we will have the Amateur’s fundraiser drawing for the Cricket! Friday night get together and Board meeting. Indoor heated pool!! Pet friendly! More detailed information to follow! The Banquet committee is working super hard to make this a Great Banquet!!!! \nMeal/Table Registration Form \n  \n  \nBanquet Schedule: \n  \nFriday: \n4:00 PM- Open Check-in \n5:00 PM -7:00 PM- Social and Dinner \n7:15- Board Meeting- Amphi-Theater \n(Hospitality Room will stay open) \n  \nSaturday: \n10:00 AM – 12:00 PM- Amateur Meeting- Petersburg Hall \n12:00 PM – 2:00 PM- Youth Meeting- Williamsburg Hall \nYouth Room Will be open 8:00AM- 8:00 PM \nPool Party After Meeting! \n  \n2:30 PM – 4:30 PM- VQHA Annual General Membership Meeting- Petersburg Hall \nRed Room (Bar) will be open for breakout meetings. \n  \nSilent Auction- Petersburg Hall (All Day) \n6:00 PM- Banquet Doors Open \n6:30- Dinner\, Awards\, DJ and Dancing! \n  \nHospitality Room open for After Party Get Together!! \n 
URL:https://myvqha.com/event/vqha-banquet/
LOCATION:Fort Magruder Hotel\, 6945 Pocahontas Trail\, Williamsburg\, VA\, 23185\, United States
CATEGORIES:2023 Events
ATTACH;FMTTYPE=image/jpeg:https://myvqha.com/wp-content/uploads/2022/11/Mardi-Gras-Party-cropped-SM.jpg
END:VEVENT
BEGIN:VEVENT
DTSTART;TZID=UTC:20230203T191500
DTEND;TZID=UTC:20230203T211500
DTSTAMP:20260424T021015
CREATED:20230119T230931Z
LAST-MODIFIED:20230119T230931Z
UID:3807-1675451700-1675458900@myvqha.com
SUMMARY:VQHA Board of Directors Meeting
DESCRIPTION:
URL:https://myvqha.com/event/vqha-board-of-directors-meeting/
LOCATION:Fort Magruder Hotel\, 6945 Pocahontas Trail\, Williamsburg\, VA\, 23185\, United States
CATEGORIES:2023 Events
END:VEVENT
END:VCALENDAR