BEGIN:VCALENDAR
VERSION:2.0
PRODID:-//Virginia Quarter Horse Association - ECPv6.15.20//NONSGML v1.0//EN
CALSCALE:GREGORIAN
METHOD:PUBLISH
X-ORIGINAL-URL:https://myvqha.com
X-WR-CALDESC:Events for Virginia Quarter Horse Association
REFRESH-INTERVAL;VALUE=DURATION:PT1H
X-Robots-Tag:noindex
X-PUBLISHED-TTL:PT1H
BEGIN:VTIMEZONE
TZID:UTC
BEGIN:STANDARD
TZOFFSETFROM:+0000
TZOFFSETTO:+0000
TZNAME:UTC
DTSTART:20220101T000000
END:STANDARD
END:VTIMEZONE
BEGIN:VEVENT
DTSTART;TZID=UTC:20230606T190000
DTEND;TZID=UTC:20230606T210000
DTSTAMP:20260423T192516
CREATED:20230224T175230Z
LAST-MODIFIED:20230224T175230Z
UID:3861-1686078000-1686085200@myvqha.com
SUMMARY:VQHYA Membership Meeting
DESCRIPTION:This will be a Zoom meeting. Please contact one of the Youth Advisors for the Zoom link.
URL:https://myvqha.com/event/vqhya-membership-meeting-4/
LOCATION:Zoom Meeting
CATEGORIES:2023 Events
END:VEVENT
END:VCALENDAR