BEGIN:VCALENDAR
VERSION:2.0
PRODID:-//Virginia Quarter Horse Association - ECPv6.15.20//NONSGML v1.0//EN
CALSCALE:GREGORIAN
METHOD:PUBLISH
X-WR-CALNAME:Virginia Quarter Horse Association
X-ORIGINAL-URL:https://myvqha.com
X-WR-CALDESC:Events for Virginia Quarter Horse Association
REFRESH-INTERVAL;VALUE=DURATION:PT1H
X-Robots-Tag:noindex
X-PUBLISHED-TTL:PT1H
BEGIN:VTIMEZONE
TZID:UTC
BEGIN:STANDARD
TZOFFSETFROM:+0000
TZOFFSETTO:+0000
TZNAME:UTC
DTSTART:20220101T000000
END:STANDARD
END:VTIMEZONE
BEGIN:VEVENT
DTSTART;VALUE=DATE:20231103
DTEND;VALUE=DATE:20231106
DTSTAMP:20260423T115558
CREATED:20230609T195350Z
LAST-MODIFIED:20230814T181152Z
UID:4089-1698969600-1699228799@myvqha.com
SUMMARY:Jack O’Latern Classic
DESCRIPTION:All Novice Show Friday\, November 3rd\, 2023 \nSplit/Combined Schedule on Saturday & Sunday November 4 – 5\, 2023 \nJUDGES: Leona Ransdell (Novice Show) ** John Kunkle and Jennifer Leckey Kunkle (AQHA Split/Combined) \nShowbill
URL:https://myvqha.com/event/jack-olatern-classic-2/
LOCATION:The Meadow Event Park\, 13191 Dawn Blvd\, Doswell\, VA\, 23047\, United States
CATEGORIES:2023 Events
ATTACH;FMTTYPE=image/png:https://myvqha.com/wp-content/uploads/2021/10/JackOLantern.png
END:VEVENT
END:VCALENDAR