BEGIN:VCALENDAR
VERSION:2.0
PRODID:-//Virginia Quarter Horse Association - ECPv6.15.20//NONSGML v1.0//EN
CALSCALE:GREGORIAN
METHOD:PUBLISH
X-ORIGINAL-URL:https://myvqha.com
X-WR-CALDESC:Events for Virginia Quarter Horse Association
REFRESH-INTERVAL;VALUE=DURATION:PT1H
X-Robots-Tag:noindex
X-PUBLISHED-TTL:PT1H
BEGIN:VTIMEZONE
TZID:UTC
BEGIN:STANDARD
TZOFFSETFROM:+0000
TZOFFSETTO:+0000
TZNAME:UTC
DTSTART:20220101T000000
END:STANDARD
END:VTIMEZONE
BEGIN:VEVENT
DTSTART;VALUE=DATE:20231028
DTEND;VALUE=DATE:20231029
DTSTAMP:20260423T231115
CREATED:20230824T181255Z
LAST-MODIFIED:20230824T181255Z
UID:4120-1698451200-1698537599@myvqha.com
SUMMARY:Brandy Station Battlefield Trail Ride
DESCRIPTION:THE VIRGINIA HORSE COUNCIL\nCULPEPER BATTLEFIELD TOURS\nAMERICAN BATTLEFIELD TRUST\nVIRGINIA QUARTER HORSE ASSOC.\nBRING A HISTORY RIDE TO\nBR ANDY STATION\nBATTLEFIELD \nSAT.\, OCT. 28. 2023\nBRANDY STATION\, VA \n  \nTrail Ride Flyer
URL:https://myvqha.com/event/brandy-station-battlefield-trail-ride/
LOCATION:Brandy Station Battlefield\, 12279 Beverly Ford Road\, Elkwood\, VA\, 22718\, United States
CATEGORIES:2023 Events
END:VEVENT
BEGIN:VEVENT
DTSTART;VALUE=DATE:20231103
DTEND;VALUE=DATE:20231106
DTSTAMP:20260423T231115
CREATED:20230609T195350Z
LAST-MODIFIED:20230814T181152Z
UID:4089-1698969600-1699228799@myvqha.com
SUMMARY:Jack O’Latern Classic
DESCRIPTION:All Novice Show Friday\, November 3rd\, 2023 \nSplit/Combined Schedule on Saturday & Sunday November 4 – 5\, 2023 \nJUDGES: Leona Ransdell (Novice Show) ** John Kunkle and Jennifer Leckey Kunkle (AQHA Split/Combined) \nShowbill
URL:https://myvqha.com/event/jack-olatern-classic-2/
LOCATION:The Meadow Event Park\, 13191 Dawn Blvd\, Doswell\, VA\, 23047\, United States
CATEGORIES:2023 Events
ATTACH;FMTTYPE=image/png:https://myvqha.com/wp-content/uploads/2021/10/JackOLantern.png
END:VEVENT
BEGIN:VEVENT
DTSTART;TZID=UTC:20231107T080000
DTEND;TZID=UTC:20231107T170000
DTSTAMP:20260423T231115
CREATED:20230224T182345Z
LAST-MODIFIED:20230224T182345Z
UID:3871-1699344000-1699376400@myvqha.com
SUMMARY:VQHYA Membership Meeting
DESCRIPTION:This will be a Zoom meeting. Please contact one of the Youth Advisors for the Zoom link.
URL:https://myvqha.com/event/vqhya-membership-meeting-9/
LOCATION:Zoom Meeting
CATEGORIES:2023 Events
END:VEVENT
BEGIN:VEVENT
DTSTART;TZID=UTC:20231114T193000
DTEND;TZID=UTC:20231114T203000
DTSTAMP:20260423T231115
CREATED:20230224T204152Z
LAST-MODIFIED:20230224T204152Z
UID:3885-1699990200-1699993800@myvqha.com
SUMMARY:VQHA Central Region Meeting
DESCRIPTION:This will be a Zoom meeting. Please contact your Region Director for the Zoom link.
URL:https://myvqha.com/event/vqha-central-region-meeting-4/
LOCATION:Zoom Meeting
CATEGORIES:2023 Events
END:VEVENT
BEGIN:VEVENT
DTSTART;VALUE=DATE:20231117
DTEND;VALUE=DATE:20231120
DTSTAMP:20260423T231115
CREATED:20230609T194810Z
LAST-MODIFIED:20230609T194810Z
UID:4086-1700179200-1700438399@myvqha.com
SUMMARY:Pre-Turkey Quarter Horse Show
DESCRIPTION:
URL:https://myvqha.com/event/pre-turkey-quarter-horse-show-3/
LOCATION:Frying Pan Farm Park\, 2709 West Ox Road\, Herndon\, VA\, 20171\, United States
CATEGORIES:2023 Events
ATTACH;FMTTYPE=image/jpeg:https://myvqha.com/wp-content/uploads/2022/10/Turkey_Small.jpg
END:VEVENT
BEGIN:VEVENT
DTSTART;TZID=UTC:20231205T190000
DTEND;TZID=UTC:20231205T210000
DTSTAMP:20260423T231115
CREATED:20230224T182429Z
LAST-MODIFIED:20230224T182429Z
UID:3873-1701802800-1701810000@myvqha.com
SUMMARY:VQHYA Membership Meeting
DESCRIPTION:This will be a Zoom meeting. Please contact one of the Youth Advisors for the Zoom link.
URL:https://myvqha.com/event/vqhya-membership-meeting-10/
LOCATION:Zoom Meeting
CATEGORIES:2023 Events
END:VEVENT
BEGIN:VEVENT
DTSTART;VALUE=DATE:20240202
DTEND;VALUE=DATE:20240204
DTSTAMP:20260423T231115
CREATED:20230824T174818Z
LAST-MODIFIED:20240111T161331Z
UID:4114-1706832000-1707004799@myvqha.com
SUMMARY:2023 VQHA Banquet- VQHA County Fair Awards Banquet
DESCRIPTION:VQHA County Fair Awards Banquet\nBlue Jeans and Country Dreams \nSave the Date: February 2 – 3\, 2024 \nLocation: Hilton Garden Inn Suffolk Riverfront Suffolk Conference Center\nRoom Rate: $109.00\nReservations must be made by January 24\, 2024. After 1/24/24\, rate will go up. \n  \nCome enjoy the VQHA County Fair!\nGames\, Cake Walk\, Raffles\, Silent Auction\, Live Auction and a Southern Style Buffet Mark this date on your calendar – details to follow soon!\nVQHA Banquet Team \n  \nSave the Date Flyer \nVQHA Banquet Room Reservations \nVQHA Banquet Dinner Reservation Form \nVQHA Banquet Silent Auction \nVQHA Banquet Ad Sales \nVQHA History Booth \nVQHA Banquet Schedule
URL:https://myvqha.com/event/2023-vqha-banquet-vqha-county-fair-awards-banquet/
LOCATION:Hilton Garden Inn Suffolk Riverfront\, 100 E Constance Road\, Suffolk\, VA\, 23434\, United States
CATEGORIES:2023 Events
END:VEVENT
END:VCALENDAR