BEGIN:VCALENDAR
VERSION:2.0
PRODID:-//Virginia Quarter Horse Association - ECPv6.15.20//NONSGML v1.0//EN
CALSCALE:GREGORIAN
METHOD:PUBLISH
X-ORIGINAL-URL:https://myvqha.com
X-WR-CALDESC:Events for Virginia Quarter Horse Association
REFRESH-INTERVAL;VALUE=DURATION:PT1H
X-Robots-Tag:noindex
X-PUBLISHED-TTL:PT1H
BEGIN:VTIMEZONE
TZID:UTC
BEGIN:STANDARD
TZOFFSETFROM:+0000
TZOFFSETTO:+0000
TZNAME:UTC
DTSTART:20230101T000000
END:STANDARD
END:VTIMEZONE
BEGIN:VEVENT
DTSTART;VALUE=DATE:20240309
DTEND;VALUE=DATE:20240310
DTSTAMP:20260422T000311
CREATED:20240213T142730Z
LAST-MODIFIED:20240219T201702Z
UID:4212-1709942400-1710028799@myvqha.com
SUMMARY:The Best Year Yet Clinic and Fieldtrip Event!!
DESCRIPTION:VQHA Proudly presents The Best Year Yet Clinic and Fieldtrip event!! \n  \nJoin us on March 9\, 2024 at the Meadows Event Park in Doswell VA and get the training you need to make this the best year Yet! \nOur all-around clinician is Cindy Young\, and Our Ranch and Ranch trail clinician is Andrey Ferrier. We would also like to encourage everyone\, even if you are not participating in the clinic to bring their horses out for a field trip to get off the farm and get prepared for the upcoming show season. \n$200 to participate with your horse and get one on one instruction from the best in the industry. \nAuditing is only $25 (4H youth members are free) (includes 1 haul in fee for a field trip horse too!) \nParticipant space IS limited\, reserve your spot TODAY! \n  \nPayment and additional information to: \nTim Cohill Phone 804-389-8127 / email TimCohill@yahoo.com \nChecks payable to VQHA to Tim Cohill 5436 Ark Rd.\, Gloucester\, VA 23061 \n 
URL:https://myvqha.com/event/the-best-year-yet-clinic-and-fieldtrip-event/
LOCATION:The Meadow Event Park\, 13191 Dawn Blvd\, Doswell\, VA\, 23047\, United States
CATEGORIES:2024 Events
END:VEVENT
END:VCALENDAR