BEGIN:VCALENDAR
VERSION:2.0
PRODID:-//Virginia Quarter Horse Association - ECPv6.15.20//NONSGML v1.0//EN
CALSCALE:GREGORIAN
METHOD:PUBLISH
X-ORIGINAL-URL:https://myvqha.com
X-WR-CALDESC:Events for Virginia Quarter Horse Association
REFRESH-INTERVAL;VALUE=DURATION:PT1H
X-Robots-Tag:noindex
X-PUBLISHED-TTL:PT1H
BEGIN:VTIMEZONE
TZID:UTC
BEGIN:STANDARD
TZOFFSETFROM:+0000
TZOFFSETTO:+0000
TZNAME:UTC
DTSTART:20230101T000000
END:STANDARD
END:VTIMEZONE
BEGIN:VEVENT
DTSTART;VALUE=DATE:20240323
DTEND;VALUE=DATE:20240324
DTSTAMP:20260422T000229
CREATED:20240311T185438Z
LAST-MODIFIED:20240311T190827Z
UID:4234-1711152000-1711238399@myvqha.com
SUMMARY:Lake Point Farm- Trail Obstacle Challenge
DESCRIPTION:See the event flyer for more information.
URL:https://myvqha.com/event/lake-point-farm-trail-obstacle-challenge/
LOCATION:Lake Point Farm\, 4200 Lake Point Road\, Suffolk\, Virginia\, 23434\, United States
CATEGORIES:2024 Events
END:VEVENT
END:VCALENDAR