BEGIN:VCALENDAR
VERSION:2.0
PRODID:-//Virginia Quarter Horse Association - ECPv6.15.20//NONSGML v1.0//EN
CALSCALE:GREGORIAN
METHOD:PUBLISH
X-WR-CALNAME:Virginia Quarter Horse Association
X-ORIGINAL-URL:https://myvqha.com
X-WR-CALDESC:Events for Virginia Quarter Horse Association
REFRESH-INTERVAL;VALUE=DURATION:PT1H
X-Robots-Tag:noindex
X-PUBLISHED-TTL:PT1H
BEGIN:VTIMEZONE
TZID:UTC
BEGIN:STANDARD
TZOFFSETFROM:+0000
TZOFFSETTO:+0000
TZNAME:UTC
DTSTART:20230101T000000
END:STANDARD
END:VTIMEZONE
BEGIN:VEVENT
DTSTART;TZID=UTC:20240404T080000
DTEND;TZID=UTC:20240407T170000
DTSTAMP:20260421T221458
CREATED:20230830T132838Z
LAST-MODIFIED:20231110T153509Z
UID:4132-1712217600-1712509200@myvqha.com
SUMMARY:Martinganza Show Quarter Horse Show and Futurity
DESCRIPTION:
URL:https://myvqha.com/event/martinganza-show-quarter-horse-show-and-futurity/
LOCATION:Senator Bob Martin Eastern Agricultural Center\, 2900 NC-125\, Williamston\, NC 27892\, Williamston\, North Carolina\, 27892\, United States
CATEGORIES:2024 Events
ATTACH;FMTTYPE=image/png:https://myvqha.com/wp-content/uploads/2021/10/Martinganza.png
END:VEVENT
END:VCALENDAR