BEGIN:VCALENDAR
VERSION:2.0
PRODID:-//Virginia Quarter Horse Association - ECPv6.15.20//NONSGML v1.0//EN
CALSCALE:GREGORIAN
METHOD:PUBLISH
X-ORIGINAL-URL:https://myvqha.com
X-WR-CALDESC:Events for Virginia Quarter Horse Association
REFRESH-INTERVAL;VALUE=DURATION:PT1H
X-Robots-Tag:noindex
X-PUBLISHED-TTL:PT1H
BEGIN:VTIMEZONE
TZID:UTC
BEGIN:STANDARD
TZOFFSETFROM:+0000
TZOFFSETTO:+0000
TZNAME:UTC
DTSTART:20230101T000000
END:STANDARD
END:VTIMEZONE
BEGIN:VEVENT
DTSTART;VALUE=DATE:20240416
DTEND;VALUE=DATE:20240421
DTSTAMP:20260421T221753
CREATED:20231213T205329Z
LAST-MODIFIED:20231213T205419Z
UID:4174-1713225600-1713657599@myvqha.com
SUMMARY:2024 Spring Breakout
DESCRIPTION:QHA/NSBA horse show. Show to six judges. Home of the Virginia Maiden. Stall reservations through Topline Event Mgt. starting January 15. \nJUDGES: LIZ BAKER\, ANDREA SIMONS\, MARK RUSSELL\, SISSY ANDERSON\, JESSICA GILLIAM\, RHONDA REPLOGLE
URL:https://myvqha.com/event/2024-spring-breakout/
LOCATION:Virginia Horse Center\, 487 Maury River Road\, Lexington\, VA\, 24450\, United States
CATEGORIES:2024 Events
ATTACH;FMTTYPE=image/png:https://myvqha.com/wp-content/uploads/2021/11/breakout2-300x295-1.png
END:VEVENT
END:VCALENDAR