BEGIN:VCALENDAR
VERSION:2.0
PRODID:-//Virginia Quarter Horse Association - ECPv6.15.20//NONSGML v1.0//EN
CALSCALE:GREGORIAN
METHOD:PUBLISH
X-ORIGINAL-URL:https://myvqha.com
X-WR-CALDESC:Events for Virginia Quarter Horse Association
REFRESH-INTERVAL;VALUE=DURATION:PT1H
X-Robots-Tag:noindex
X-PUBLISHED-TTL:PT1H
BEGIN:VTIMEZONE
TZID:UTC
BEGIN:STANDARD
TZOFFSETFROM:+0000
TZOFFSETTO:+0000
TZNAME:UTC
DTSTART:20230101T000000
END:STANDARD
END:VTIMEZONE
BEGIN:VEVENT
DTSTART;VALUE=DATE:20240517
DTEND;VALUE=DATE:20240520
DTSTAMP:20260421T203953
CREATED:20231110T153352Z
LAST-MODIFIED:20240506T155901Z
UID:4158-1715904000-1716163199@myvqha.com
SUMMARY:Virginia National Stock Horse Show
DESCRIPTION:All Novice Show Friday\, May 17th \nVRH Special Event on Friday\, May 17th \nSplit/Combined Schedule on Saturday & Sunday May 18-19 \n  \nJUDGES: \nLori Gordon(Novice Show) *** Michael Bednarek (VRH Special Event) \nAlexandra Bryner and Bruce Army (AQHA Split/Combined) \n  \nShowbill (Updated: 3/20/24) \nRegistration Form \nStock Horse Show Entry Form \nNovice Show Entry Form
URL:https://myvqha.com/event/virginia-national-stock-horse-show-2/
LOCATION:The Meadow Event Park\, 13191 Dawn Blvd\, Doswell\, VA\, 23047\, United States
CATEGORIES:2024 Events
ATTACH;FMTTYPE=image/jpeg:https://myvqha.com/wp-content/uploads/2023/02/Stock-Horse-Show-Logo-CRSM.jpg
END:VEVENT
END:VCALENDAR