BEGIN:VCALENDAR
VERSION:2.0
PRODID:-//Virginia Quarter Horse Association - ECPv6.15.20//NONSGML v1.0//EN
CALSCALE:GREGORIAN
METHOD:PUBLISH
X-ORIGINAL-URL:https://myvqha.com
X-WR-CALDESC:Events for Virginia Quarter Horse Association
REFRESH-INTERVAL;VALUE=DURATION:PT1H
X-Robots-Tag:noindex
X-PUBLISHED-TTL:PT1H
BEGIN:VTIMEZONE
TZID:UTC
BEGIN:STANDARD
TZOFFSETFROM:+0000
TZOFFSETTO:+0000
TZNAME:UTC
DTSTART:20230101T000000
END:STANDARD
END:VTIMEZONE
BEGIN:VEVENT
DTSTART;TZID=UTC:20240525T120000
DTEND;TZID=UTC:20240525T160000
DTSTAMP:20260421T204238
CREATED:20240311T185130Z
LAST-MODIFIED:20240311T185130Z
UID:4230-1716638400-1716652800@myvqha.com
SUMMARY:Lake Point Farm- Ranch Riding Clinic
DESCRIPTION:Ranch Clinician Matt and Beth Gouthro will be in Suffolk\, Virginia at Lake Point Farm\nThey will go over Versatility Ranch Riding\, which will include Ranch Riding Pattern\, Ranch Trail\, Ranch Rail\, and Conformation \n  \nSaturday\, May 25\, 2024\nFrom 12 noon – 4:00PM \n  \nSee the Clinic Flyer for more information.
URL:https://myvqha.com/event/lake-point-farm-ranch-riding-clinic/
LOCATION:Lake Point Farm\, 4200 Lake Point Road\, Suffolk\, Virginia\, 23434\, United States
CATEGORIES:2024 Events
END:VEVENT
END:VCALENDAR