BEGIN:VCALENDAR
VERSION:2.0
PRODID:-//Virginia Quarter Horse Association - ECPv6.15.20//NONSGML v1.0//EN
CALSCALE:GREGORIAN
METHOD:PUBLISH
X-ORIGINAL-URL:https://myvqha.com
X-WR-CALDESC:Events for Virginia Quarter Horse Association
REFRESH-INTERVAL;VALUE=DURATION:PT1H
X-Robots-Tag:noindex
X-PUBLISHED-TTL:PT1H
BEGIN:VTIMEZONE
TZID:UTC
BEGIN:STANDARD
TZOFFSETFROM:+0000
TZOFFSETTO:+0000
TZNAME:UTC
DTSTART:20230101T000000
END:STANDARD
END:VTIMEZONE
BEGIN:VEVENT
DTSTART;VALUE=DATE:20240823
DTEND;VALUE=DATE:20240826
DTSTAMP:20260421T155515
CREATED:20240118T184007Z
LAST-MODIFIED:20240118T184007Z
UID:4194-1724371200-1724630399@myvqha.com
SUMMARY:District V Endless Summer
DESCRIPTION:
URL:https://myvqha.com/event/district-v-endless-summer-2/
LOCATION:Senator Bob Martin Eastern Agricultural Center\, 2900 NC-125\, Williamston\, NC 27892\, Williamston\, North Carolina\, 27892\, United States
CATEGORIES:2024 Events
ATTACH;FMTTYPE=image/jpeg:https://myvqha.com/wp-content/uploads/2022/07/Endless-Summer.jpg
END:VEVENT
END:VCALENDAR