BEGIN:VCALENDAR
VERSION:2.0
PRODID:-//Virginia Quarter Horse Association - ECPv6.15.20//NONSGML v1.0//EN
CALSCALE:GREGORIAN
METHOD:PUBLISH
X-WR-CALNAME:Virginia Quarter Horse Association
X-ORIGINAL-URL:https://myvqha.com
X-WR-CALDESC:Events for Virginia Quarter Horse Association
REFRESH-INTERVAL;VALUE=DURATION:PT1H
X-Robots-Tag:noindex
X-PUBLISHED-TTL:PT1H
BEGIN:VTIMEZONE
TZID:UTC
BEGIN:STANDARD
TZOFFSETFROM:+0000
TZOFFSETTO:+0000
TZNAME:UTC
DTSTART:20230101T000000
END:STANDARD
END:VTIMEZONE
BEGIN:VEVENT
DTSTART;VALUE=DATE:20240906
DTEND;VALUE=DATE:20240909
DTSTAMP:20260421T142505
CREATED:20240809T144841Z
LAST-MODIFIED:20240809T144901Z
UID:4288-1725580800-1725839999@myvqha.com
SUMMARY:Pre-Turkey Quarter Horse Show
DESCRIPTION:2024 Show Judges\n\n\n\n\n\nArthur O’Brien  •  Ronald Stratton  •  Amy Marx  •  Kim Myers\n\n\n\n\n\n\nShow Manager: Kenneth Daniels   Show Secretary: Susan Daniels\n\nShowBill
URL:https://myvqha.com/event/pre-turkey-quarter-horse-show-4/
LOCATION:Frying Pan Farm Park\, 2709 West Ox Road\, Herndon\, VA\, 20171\, United States
CATEGORIES:2024 Events
ATTACH;FMTTYPE=image/jpeg:https://myvqha.com/wp-content/uploads/2022/10/Turkey_Small.jpg
END:VEVENT
END:VCALENDAR