BEGIN:VCALENDAR
VERSION:2.0
PRODID:-//Virginia Quarter Horse Association - ECPv6.15.20//NONSGML v1.0//EN
CALSCALE:GREGORIAN
METHOD:PUBLISH
X-ORIGINAL-URL:https://myvqha.com
X-WR-CALDESC:Events for Virginia Quarter Horse Association
REFRESH-INTERVAL;VALUE=DURATION:PT1H
X-Robots-Tag:noindex
X-PUBLISHED-TTL:PT1H
BEGIN:VTIMEZONE
TZID:UTC
BEGIN:STANDARD
TZOFFSETFROM:+0000
TZOFFSETTO:+0000
TZNAME:UTC
DTSTART:20240101T000000
END:STANDARD
END:VTIMEZONE
BEGIN:VEVENT
DTSTART;VALUE=DATE:20250905
DTEND;VALUE=DATE:20250908
DTSTAMP:20260422T215205
CREATED:20250625T140744Z
LAST-MODIFIED:20250625T140816Z
UID:4567-1757030400-1757289599@myvqha.com
SUMMARY:Pre-Turkey Circuit
DESCRIPTION:2025 Show Judges\n\n\n\n\nRandy Alderson  •  Jeff Buck  •  Dan Trien  •  Allen Mitchels\n\n\n\n\nShow Manager: Kenneth Daniels   Show Secretary: Susan Daniels
URL:https://myvqha.com/event/pre-turkey-circuit/
LOCATION:Frying Pan Farm Park\, 2709 West Ox Road\, Herndon\, VA\, 20171\, United States
CATEGORIES:2025 Events
ATTACH;FMTTYPE=image/jpeg:https://myvqha.com/wp-content/uploads/2022/10/Turkey_Small.jpg
END:VEVENT
BEGIN:VEVENT
DTSTART;TZID=UTC:20251008T190000
DTEND;TZID=UTC:20251008T203000
DTSTAMP:20260422T215205
CREATED:20250218T153021Z
LAST-MODIFIED:20250218T153021Z
UID:4422-1759950000-1759955400@myvqha.com
SUMMARY:VQHA Board Meeting
DESCRIPTION:“VQHA Board Meeting. Location: Virtual. Regularly called bimonthly Board meeting. All members are welcome to join; please let Emily Murphy know so that she can get you the Zoom link.”
URL:https://myvqha.com/event/vqha-board-meeting-5/
LOCATION:VA
CATEGORIES:2025 Events
END:VEVENT
BEGIN:VEVENT
DTSTART;TZID=UTC:20251031T080000
DTEND;TZID=UTC:20251102T170000
DTSTAMP:20260422T215205
CREATED:20250107T190056Z
LAST-MODIFIED:20250904T193206Z
UID:4392-1761897600-1762102800@myvqha.com
SUMMARY:Jac O'Lantern Classic
DESCRIPTION:Showbill \nClick Here to reserve a stall
URL:https://myvqha.com/event/jac-olantern-classic/
LOCATION:The Meadow Event Park\, 13191 Dawn Blvd\, Doswell\, VA\, 23047\, United States
CATEGORIES:2025 Events
ATTACH;FMTTYPE=image/png:https://myvqha.com/wp-content/uploads/2021/10/JackOLantern.png
END:VEVENT
BEGIN:VEVENT
DTSTART;VALUE=DATE:20251121
DTEND;VALUE=DATE:20251124
DTSTAMP:20260422T215205
CREATED:20241112T140241Z
LAST-MODIFIED:20251021T183359Z
UID:4353-1763683200-1763942399@myvqha.com
SUMMARY:Virginia Harvest Festival
DESCRIPTION:Click here for the show flyer.  \nClick here for the showbill.
URL:https://myvqha.com/event/virginia-harvest-festival/
LOCATION:Virginia Horse Center\, 487 Maury River Road\, Lexington\, VA\, 24450\, United States
CATEGORIES:2025 Events
ORGANIZER;CN="AB Management Services":MAILTO:abshowmanagement@gmail.com
END:VEVENT
BEGIN:VEVENT
DTSTART;TZID=UTC:20251210T190000
DTEND;TZID=UTC:20251210T190000
DTSTAMP:20260422T215205
CREATED:20250218T153113Z
LAST-MODIFIED:20250218T153113Z
UID:4424-1765393200-1765393200@myvqha.com
SUMMARY:VQHA Board Meeting
DESCRIPTION:“VQHA Board Meeting. Location: Virtual. Regularly called bimonthly Board meeting. All members are welcome to join; please let Emily Murphy know so that she can get you the Zoom link.”
URL:https://myvqha.com/event/vqha-board-meeting-6/
LOCATION:VA
CATEGORIES:2025 Events
END:VEVENT
BEGIN:VEVENT
DTSTART;VALUE=DATE:20260320
DTEND;VALUE=DATE:20260321
DTSTAMP:20260422T215205
CREATED:20251125T170413Z
LAST-MODIFIED:20260302T152704Z
UID:4806-1773964800-1774051199@myvqha.com
SUMMARY:VQHA Annual Meeting and Banquet- "Off to the Races"
DESCRIPTION:** Tickets Must Be Purchased By March 1. *** \nBanquet Flyer \nReserve Your Hotel Room Here!! \n 
URL:https://myvqha.com/event/vqha-annual-meeting-and-banquet-off-to-the-races/
LOCATION:The Blackburn Inn and Conference Center\, 301 Greenville Ave\, Staunton\, VA\, 24401\, United States
CATEGORIES:2026 Events
ATTACH;FMTTYPE=image/jpeg:https://myvqha.com/wp-content/uploads/2025/12/Horse-Racing_RS.jpg
END:VEVENT
BEGIN:VEVENT
DTSTART;VALUE=DATE:20260326
DTEND;VALUE=DATE:20260330
DTSTAMP:20260422T215205
CREATED:20260116T180659Z
LAST-MODIFIED:20260116T182111Z
UID:4856-1774483200-1774828799@myvqha.com
SUMMARY:AQHA March to Virginia and Virginia Maiden
DESCRIPTION:Show Organizers\nAllie Board\, (502) 693-4289\nJohn Boxwell\, (217) 621-9145 \nEmail: ABShowmanagement@gmail.com \nAll contributed money is guaranteed by VHC and will be paid out at the show. \n\nJudges: Teresa Sullivan\, Sara Simons\, Brad Luebben\, Carmen Mayabb and Jeff Mellott. \n\n\n\n\n\n\nStalls/Shavings/RVs: ALL stalls\, camping\, and shavings will be reserved through the stable office – 540-464-2966. \nCamper & Golf Cart Rentals: (540) 464-2966
URL:https://myvqha.com/event/aqha-march-to-virginia-and-virginia-maiden/
LOCATION:Virginia Horse Center\, 487 Maury River Road\, Lexington\, VA\, 24450\, United States
CATEGORIES:2026 Events
ATTACH;FMTTYPE=image/jpeg:https://myvqha.com/wp-content/uploads/2026/01/Virginia-Maiden.jpg
ORGANIZER;CN="AB Management Services":MAILTO:abshowmanagement@gmail.com
END:VEVENT
BEGIN:VEVENT
DTSTART;VALUE=DATE:20260402
DTEND;VALUE=DATE:20260406
DTSTAMP:20260422T215205
CREATED:20251216T185313Z
LAST-MODIFIED:20251216T185313Z
UID:4825-1775088000-1775433599@myvqha.com
SUMMARY:Martinganza Quarter Horse Show and Futurity
DESCRIPTION:
URL:https://myvqha.com/event/martinganza-quarter-horse-show-and-futurity-2/
LOCATION:Senator Bob Martin Eastern Agricultural Center\, 2900 NC-125\, Williamston\, NC 27892\, Williamston\, North Carolina\, 27892\, United States
CATEGORIES:2026 Events
ATTACH;FMTTYPE=image/png:https://myvqha.com/wp-content/uploads/2021/10/Martinganza.png
END:VEVENT
BEGIN:VEVENT
DTSTART;VALUE=DATE:20260515
DTEND;VALUE=DATE:20260518
DTSTAMP:20260422T215205
CREATED:20251216T190015Z
LAST-MODIFIED:20260108T172227Z
UID:4829-1778803200-1779062399@myvqha.com
SUMMARY:Virginia National Stock Horse Show
DESCRIPTION:Judges: \nLevel 1 AQHA Show- Jeramie West \nVRH Ranch Event- Tony Burris\nSplit Combined: Steve Heckaman and John Tuckey \n  \nShowbill
URL:https://myvqha.com/event/virginia-national-stock-horse-show-4/
LOCATION:The Meadow Event Park\, 13191 Dawn Blvd\, Doswell\, VA\, 23047\, United States
CATEGORIES:2026 Events
ATTACH;FMTTYPE=image/jpeg:https://myvqha.com/wp-content/uploads/2023/02/Stock-Horse-Show-Logo-CRSM.jpg
END:VEVENT
BEGIN:VEVENT
DTSTART;VALUE=DATE:20260724
DTEND;VALUE=DATE:20260727
DTSTAMP:20260422T215205
CREATED:20251216T185453Z
LAST-MODIFIED:20251216T185453Z
UID:4827-1784851200-1785110399@myvqha.com
SUMMARY:Little River Circuit
DESCRIPTION:
URL:https://myvqha.com/event/little-river-circuit-5/
LOCATION:Senator Bob Martin Eastern Agricultural Center\, 2900 NC-125\, Williamston\, NC 27892\, Williamston\, North Carolina\, 27892\, United States
CATEGORIES:2026 Events
ATTACH;FMTTYPE=image/jpeg:https://myvqha.com/wp-content/uploads/2024/01/Little-River.jpg
END:VEVENT
END:VCALENDAR