BEGIN:VCALENDAR
VERSION:2.0
PRODID:-//Virginia Quarter Horse Association - ECPv6.15.20//NONSGML v1.0//EN
CALSCALE:GREGORIAN
METHOD:PUBLISH
X-WR-CALNAME:Virginia Quarter Horse Association
X-ORIGINAL-URL:https://myvqha.com
X-WR-CALDESC:Events for Virginia Quarter Horse Association
REFRESH-INTERVAL;VALUE=DURATION:PT1H
X-Robots-Tag:noindex
X-PUBLISHED-TTL:PT1H
BEGIN:VTIMEZONE
TZID:UTC
BEGIN:STANDARD
TZOFFSETFROM:+0000
TZOFFSETTO:+0000
TZNAME:UTC
DTSTART:20210101T000000
END:STANDARD
END:VTIMEZONE
BEGIN:VTIMEZONE
TZID:America/New_York
BEGIN:DAYLIGHT
TZOFFSETFROM:-0500
TZOFFSETTO:-0400
TZNAME:EDT
DTSTART:20210314T070000
END:DAYLIGHT
BEGIN:STANDARD
TZOFFSETFROM:-0400
TZOFFSETTO:-0500
TZNAME:EST
DTSTART:20211107T060000
END:STANDARD
BEGIN:DAYLIGHT
TZOFFSETFROM:-0500
TZOFFSETTO:-0400
TZNAME:EDT
DTSTART:20220313T070000
END:DAYLIGHT
BEGIN:STANDARD
TZOFFSETFROM:-0400
TZOFFSETTO:-0500
TZNAME:EST
DTSTART:20221106T060000
END:STANDARD
BEGIN:DAYLIGHT
TZOFFSETFROM:-0500
TZOFFSETTO:-0400
TZNAME:EDT
DTSTART:20230312T070000
END:DAYLIGHT
BEGIN:STANDARD
TZOFFSETFROM:-0400
TZOFFSETTO:-0500
TZNAME:EST
DTSTART:20231105T060000
END:STANDARD
END:VTIMEZONE
BEGIN:VEVENT
DTSTART;TZID=UTC:20230905T190000
DTEND;TZID=UTC:20230905T210000
DTSTAMP:20260421T005552
CREATED:20230224T182108Z
LAST-MODIFIED:20230224T182108Z
UID:3867-1693940400-1693947600@myvqha.com
SUMMARY:VQHYA Membership Meeting
DESCRIPTION:This will be a Zoom meeting. Please contact one of the Youth Advisors for the Zoom link.
URL:https://myvqha.com/event/vqhya-membership-meeting-7/
LOCATION:Zoom Meeting
END:VEVENT
BEGIN:VEVENT
DTSTART;VALUE=DATE:20230818
DTEND;VALUE=DATE:20230821
DTSTAMP:20260421T005552
CREATED:20230607T143938Z
LAST-MODIFIED:20230607T143938Z
UID:4057-1692316800-1692575999@myvqha.com
SUMMARY:District V Endless Summer
DESCRIPTION:
URL:https://myvqha.com/event/district-v-endless-summer/
LOCATION:Senator Bob Martin Eastern Agricultural Center\, 2900 NC-125\, Williamston\, NC 27892\, Williamston\, North Carolina\, 27892\, United States
CATEGORIES:2023 Events
ATTACH;FMTTYPE=image/jpeg:https://myvqha.com/wp-content/uploads/2022/07/Endless-Summer.jpg
END:VEVENT
BEGIN:VEVENT
DTSTART;TZID=UTC:20230801T190000
DTEND;TZID=UTC:20230801T210000
DTSTAMP:20260421T005552
CREATED:20230224T180249Z
LAST-MODIFIED:20230224T180249Z
UID:3865-1690916400-1690923600@myvqha.com
SUMMARY:VQHYA Membership Meeting
DESCRIPTION:This will be a Zoom meeting. Please contact one of the Youth Advisors for the Zoom link.
URL:https://myvqha.com/event/vqhya-membership-meeting-6/
LOCATION:Zoom Meeting
CATEGORIES:2023 Events
END:VEVENT
BEGIN:VEVENT
DTSTART;VALUE=DATE:20230728
DTEND;VALUE=DATE:20230731
DTSTAMP:20260421T005552
CREATED:20230609T194357Z
LAST-MODIFIED:20230609T194357Z
UID:4084-1690502400-1690761599@myvqha.com
SUMMARY:Little River Circuit
DESCRIPTION:
URL:https://myvqha.com/event/little-river-circuit-2/
LOCATION:Senator Bob Martin Eastern Agricultural Center\, 2900 NC-125\, Williamston\, NC 27892\, Williamston\, North Carolina\, 27892\, United States
CATEGORIES:2023 Events
END:VEVENT
BEGIN:VEVENT
DTSTART;TZID=UTC:20230711T193000
DTEND;TZID=UTC:20230711T203000
DTSTAMP:20260421T005552
CREATED:20230224T203637Z
LAST-MODIFIED:20230224T203637Z
UID:3881-1689103800-1689107400@myvqha.com
SUMMARY:VQHA- Central Region Meeting
DESCRIPTION:This will be a Zoom meeting. Please contact your Region Director for the Zoom link.
URL:https://myvqha.com/event/vqha-central-region-meeting-2/
LOCATION:Zoom Meeting
CATEGORIES:2023 Events
END:VEVENT
BEGIN:VEVENT
DTSTART;TZID=UTC:20230704T190000
DTEND;TZID=UTC:20230704T210000
DTSTAMP:20260421T005552
CREATED:20230224T175404Z
LAST-MODIFIED:20230224T175412Z
UID:3863-1688497200-1688504400@myvqha.com
SUMMARY:VQHYA Membership Meeting
DESCRIPTION:This will be a Zoom meeting. Please contact one of the Youth Advisors for the Zoom link.
URL:https://myvqha.com/event/vqhya-membership-meeting-5/
LOCATION:Zoom Meeting
CATEGORIES:2023 Events
END:VEVENT
BEGIN:VEVENT
DTSTART;TZID=UTC:20230606T190000
DTEND;TZID=UTC:20230606T210000
DTSTAMP:20260421T005552
CREATED:20230224T175230Z
LAST-MODIFIED:20230224T175230Z
UID:3861-1686078000-1686085200@myvqha.com
SUMMARY:VQHYA Membership Meeting
DESCRIPTION:This will be a Zoom meeting. Please contact one of the Youth Advisors for the Zoom link.
URL:https://myvqha.com/event/vqhya-membership-meeting-4/
LOCATION:Zoom Meeting
CATEGORIES:2023 Events
END:VEVENT
BEGIN:VEVENT
DTSTART;VALUE=DATE:20230519
DTEND;VALUE=DATE:20230522
DTSTAMP:20260421T005552
CREATED:20230214T152522Z
LAST-MODIFIED:20230224T205746Z
UID:3849-1684454400-1684713599@myvqha.com
SUMMARY:2023 Virginia National Stock Horse Show
DESCRIPTION:All Novice Show Friday\, May 19th \nVRH Special Event on Friday\, May 19th \nSplit/Combined Schedule on Saturday & Sunday May 20-21 \n  \nJUDGES:  \nRobbie Haskins\, DVM (Novice Show) \nJohn Tuckey (VRH Special Event) \nJohn Tuckey and Mike Hawkins (AQHA Split/Combined) \n  \nShowbill– (Updated 2/14/23) \n 
URL:https://myvqha.com/event/2023-virginia-national-stock-horse-show/
LOCATION:The Meadow Event Park\, 13191 Dawn Blvd\, Doswell\, VA\, 23047\, United States
CATEGORIES:2023 Events
ATTACH;FMTTYPE=image/jpeg:https://myvqha.com/wp-content/uploads/2023/02/Stock-Horse-Show-Logo-CRSM.jpg
END:VEVENT
BEGIN:VEVENT
DTSTART;TZID=UTC:20230509T193000
DTEND;TZID=UTC:20230509T203000
DTSTAMP:20260421T005552
CREATED:20230224T203334Z
LAST-MODIFIED:20230224T203334Z
UID:3879-1683660600-1683664200@myvqha.com
SUMMARY:VQHA Central Region Meeting
DESCRIPTION:This will be a Zoom meeting. Please contact your Region Director for the Zoom link.
URL:https://myvqha.com/event/vqha-central-region-meeting/
LOCATION:Zoom Meeting
CATEGORIES:2023 Events
END:VEVENT
BEGIN:VEVENT
DTSTART;TZID=UTC:20230502T190000
DTEND;TZID=UTC:20230502T210000
DTSTAMP:20260421T005552
CREATED:20230224T174332Z
LAST-MODIFIED:20230224T174332Z
UID:3857-1683054000-1683061200@myvqha.com
SUMMARY:VQHYA Membership Meeting
DESCRIPTION:This will be a Zoom meeting. Please contact one of the Youth Advisors for the Zoom link.
URL:https://myvqha.com/event/vqhya-membership-meeting-2/
LOCATION:Zoom Meeting
CATEGORIES:2023 Events
END:VEVENT
BEGIN:VEVENT
DTSTART;TZID=UTC:20230404T190000
DTEND;TZID=UTC:20230404T210000
DTSTAMP:20260421T005552
CREATED:20230224T174507Z
LAST-MODIFIED:20230224T174617Z
UID:3859-1680634800-1680642000@myvqha.com
SUMMARY:VQHYA Membership Meeting
DESCRIPTION:This will be a Zoom meeting. Please contact one of the Youth Advisors for the Zoom link.
URL:https://myvqha.com/event/vqhya-membership-meeting-3/
LOCATION:Zoom Meeting
CATEGORIES:2023 Events
END:VEVENT
BEGIN:VEVENT
DTSTART;VALUE=DATE:20230330
DTEND;VALUE=DATE:20230403
DTSTAMP:20260421T005552
CREATED:20220922T190410Z
LAST-MODIFIED:20230224T175040Z
UID:3683-1680134400-1680479999@myvqha.com
SUMMARY:2023 Martinganza Quarter Horse Show and Futurity
DESCRIPTION:
URL:https://myvqha.com/event/2023-martinganza-quarter-horse-show-and-futurity/
LOCATION:Senator Bob Martin Eastern Agricultural Center\, 2900 NC-125\, Williamston\, NC 27892\, Williamston\, North Carolina\, 27892\, United States
CATEGORIES:2023 Events
ATTACH;FMTTYPE=image/png:https://myvqha.com/wp-content/uploads/2021/10/Martinganza.png
END:VEVENT
BEGIN:VEVENT
DTSTART;VALUE=DATE:20230322
DTEND;VALUE=DATE:20230327
DTSTAMP:20260421T005552
CREATED:20220922T185750Z
LAST-MODIFIED:20221226T154720Z
UID:3679-1679443200-1679875199@myvqha.com
SUMMARY:2023 Spring Breakout
DESCRIPTION:6 Judge AQHA S/C Show\, AQHA Special Event\, NSBA & Futurity \nJudges: Eddie Smith (SE)\, April Devitt\, Casey Devitt\, Clay MacLeod\, \nDolly Chayer\, Rick Christy\, Sandy Curl \n  \nShowbill \nStall Form – open 12/20 @ 8:00 AM \nSponsor Form \nOfficial Show Photographer – Ryan Geiger Photography \n  \nMore information available at: www.toplineeventmgt.com
URL:https://myvqha.com/event/2023-spring-breakout-show/
LOCATION:Virginia Horse Center\, 487 Maury River Road\, Lexington\, VA\, 24450\, United States
CATEGORIES:2023 Events
ATTACH;FMTTYPE=image/png:https://myvqha.com/wp-content/uploads/2021/11/breakout2-300x295-1.png
END:VEVENT
BEGIN:VEVENT
DTSTART;TZID=UTC:20230314T073000
DTEND;TZID=UTC:20230314T203000
DTSTAMP:20260421T005552
CREATED:20230224T203024Z
LAST-MODIFIED:20230224T203134Z
UID:3875-1678779000-1678825800@myvqha.com
SUMMARY:VQHA Central Region Meeting
DESCRIPTION:This will be a Zoom meeting. Please contact your Region Director for the Zoom link.
URL:https://myvqha.com/event/central-region-meeting/
LOCATION:Zoom Meeting
CATEGORIES:2023 Events
END:VEVENT
BEGIN:VEVENT
DTSTART;TZID=UTC:20230307T190000
DTEND;TZID=UTC:20230307T210000
DTSTAMP:20260421T005552
CREATED:20230224T174151Z
LAST-MODIFIED:20230224T174151Z
UID:3855-1678215600-1678222800@myvqha.com
SUMMARY:VQHYA Membership Meeting
DESCRIPTION:This will be a Zoom meeting. Please contact one of the Youth Advisors for the Zoom link.
URL:https://myvqha.com/event/vqhya-membership-meeting/
LOCATION:Zoom Meeting
CATEGORIES:2023 Events
END:VEVENT
BEGIN:VEVENT
DTSTART;VALUE=DATE:20230304
DTEND;VALUE=DATE:20230305
DTSTAMP:20260421T005552
CREATED:20230121T211716Z
LAST-MODIFIED:20230121T211822Z
UID:3815-1677888000-1677974399@myvqha.com
SUMMARY:Best Year Yet Clinic and Fieldtrip event featuring Tommy Sheets and Shannon Quinlan Hill!
DESCRIPTION:VQHA Proudly presents The Best Year Yet Clinic and Fieldtrip event!!\nJoin us on March 4\, 2023 at the Meadows Event Park in Doswell VA and get the training you need to make this the best year Yet!\nOur trail and all around clinician is Tommy Sheets.\nOur Ranch and Reining clinician is Shannon Quinlan Hill. We would also like to encourage everyone\, even if you are not participating to bring their horses out for a field trip to get off the farm and get prepared for the upcomming show season.\nIts only $150 to participate with your horse and get one on one instruction from the best in the industry.\n\nAuditing is only $25 ($10 for 4H members)(includes 1 haul in fee for a field trip horse too!)\n\nParticipant space IS limited\, reserve your spot TODAY!\n\nPayment and additional information to\nTim Cohill Phone 804-389-8127 / email TimCohill@yahoo.com\nVenmo= VQHA@lauraBoardwine (please add 4% convenience fee)\n\n\nChecks payable to VQHA to Tim Cohill 5436 Ark Rd.\, Gloucester\, VA 23061
URL:https://myvqha.com/event/best-year-yet-clinic-and-fieldtrip-event-featuring-tommy-sheets-and-shannon-quinlan-hill/
LOCATION:The Meadow Event Park\, 13191 Dawn Blvd\, Doswell\, VA\, 23047\, United States
CATEGORIES:2023 Events
END:VEVENT
BEGIN:VEVENT
DTSTART;TZID=UTC:20230228T190000
DTEND;TZID=UTC:20230228T210000
DTSTAMP:20260421T005552
CREATED:20230224T164627Z
LAST-MODIFIED:20230224T174209Z
UID:3852-1677610800-1677618000@myvqha.com
SUMMARY:VQHYA Officer Training
DESCRIPTION:This will be a Zoom meeting. Please contact one of the Youth Advisors for the Zoom link.
URL:https://myvqha.com/event/vqhya-officer-training/
LOCATION:Zoom Meeting
CATEGORIES:2023 Events
END:VEVENT
BEGIN:VEVENT
DTSTART;TZID=UTC:20230204T120000
DTEND;TZID=UTC:20230204T140000
DTSTAMP:20260421T005552
CREATED:20230119T231240Z
LAST-MODIFIED:20230119T231240Z
UID:3811-1675512000-1675519200@myvqha.com
SUMMARY:VQHA Youth Association Meeting
DESCRIPTION:
URL:https://myvqha.com/event/vqha-youth-association-meeting/
LOCATION:Fort Magruder Hotel\, 6945 Pocahontas Trail\, Williamsburg\, VA\, 23185\, United States
CATEGORIES:2023 Events
END:VEVENT
BEGIN:VEVENT
DTSTART;TZID=UTC:20230204T100000
DTEND;TZID=UTC:20230204T120000
DTSTAMP:20260421T005552
CREATED:20230119T231121Z
LAST-MODIFIED:20230119T231122Z
UID:3809-1675504800-1675512000@myvqha.com
SUMMARY:VQHA Amateur Association Meeting
DESCRIPTION:
URL:https://myvqha.com/event/vqha-amateur-association-meeting/
LOCATION:Fort Magruder Hotel\, 6945 Pocahontas Trail\, Williamsburg\, VA\, 23185\, United States
CATEGORIES:2023 Events
END:VEVENT
BEGIN:VEVENT
DTSTART;TZID=UTC:20230203T191500
DTEND;TZID=UTC:20230203T211500
DTSTAMP:20260421T005552
CREATED:20230119T230931Z
LAST-MODIFIED:20230119T230931Z
UID:3807-1675451700-1675458900@myvqha.com
SUMMARY:VQHA Board of Directors Meeting
DESCRIPTION:
URL:https://myvqha.com/event/vqha-board-of-directors-meeting/
LOCATION:Fort Magruder Hotel\, 6945 Pocahontas Trail\, Williamsburg\, VA\, 23185\, United States
CATEGORIES:2023 Events
END:VEVENT
BEGIN:VEVENT
DTSTART;VALUE=DATE:20230203
DTEND;VALUE=DATE:20230205
DTSTAMP:20260421T005552
CREATED:20221110T163101Z
LAST-MODIFIED:20230119T230349Z
UID:3768-1675382400-1675555199@myvqha.com
SUMMARY:Mardi Gras Party- 2023 VQHA Banquet
DESCRIPTION:Please everyone plan to attend!!! Bring the family and a new member or friends everyone is welcome!!!!! Please Share and get the word out. Silent auction and the Basket Challenge is back to win a free stall at the Breakout!! Youth\, Amateur and General meetings during the day and Awards banquet Saturday night plus a super awesome DJ! Plus we will have the Amateur’s fundraiser drawing for the Cricket! Friday night get together and Board meeting. Indoor heated pool!! Pet friendly! More detailed information to follow! The Banquet committee is working super hard to make this a Great Banquet!!!! \nMeal/Table Registration Form \n  \n  \nBanquet Schedule: \n  \nFriday: \n4:00 PM- Open Check-in \n5:00 PM -7:00 PM- Social and Dinner \n7:15- Board Meeting- Amphi-Theater \n(Hospitality Room will stay open) \n  \nSaturday: \n10:00 AM – 12:00 PM- Amateur Meeting- Petersburg Hall \n12:00 PM – 2:00 PM- Youth Meeting- Williamsburg Hall \nYouth Room Will be open 8:00AM- 8:00 PM \nPool Party After Meeting! \n  \n2:30 PM – 4:30 PM- VQHA Annual General Membership Meeting- Petersburg Hall \nRed Room (Bar) will be open for breakout meetings. \n  \nSilent Auction- Petersburg Hall (All Day) \n6:00 PM- Banquet Doors Open \n6:30- Dinner\, Awards\, DJ and Dancing! \n  \nHospitality Room open for After Party Get Together!! \n 
URL:https://myvqha.com/event/vqha-banquet/
LOCATION:Fort Magruder Hotel\, 6945 Pocahontas Trail\, Williamsburg\, VA\, 23185\, United States
CATEGORIES:2023 Events
ATTACH;FMTTYPE=image/jpeg:https://myvqha.com/wp-content/uploads/2022/11/Mardi-Gras-Party-cropped-SM.jpg
END:VEVENT
BEGIN:VEVENT
DTSTART;TZID=UTC:20230119T143000
DTEND;TZID=UTC:20230119T163000
DTSTAMP:20260421T005552
CREATED:20230119T231344Z
LAST-MODIFIED:20230119T231344Z
UID:3813-1674138600-1674145800@myvqha.com
SUMMARY:VQHA Annual General Membership Meeting
DESCRIPTION:
URL:https://myvqha.com/event/vqha-annual-general-membership-meeting/
LOCATION:Fort Magruder Hotel\, 6945 Pocahontas Trail\, Williamsburg\, VA\, 23185\, United States
CATEGORIES:2023 Events
END:VEVENT
BEGIN:VEVENT
DTSTART;VALUE=DATE:20221118
DTEND;VALUE=DATE:20221121
DTSTAMP:20260421T005552
CREATED:20220829T141130Z
LAST-MODIFIED:20221011T152754Z
UID:3674-1668729600-1668988799@myvqha.com
SUMMARY:Pre-Turkey Quarter Horse Show
DESCRIPTION:2022 SHOW JUDGES\n\n\n\n\n\nDONALD MCDUFFEE\, SANDRA CURL\, MANITA MCKOOL-DEFOOR\, GLENN WELLS\n\n\n\n\n\n\nShow Manager: Kenneth Daniels   Show Secretary: Susan Daniels   Stable/Friends: Yvonne Johnson\n\nClick Here for more information.
URL:https://myvqha.com/event/pre-turkey-quarter-horse-show-2/
LOCATION:Frying Pan Farm Park\, 2709 West Ox Road\, Herndon\, VA\, 20171\, United States
CATEGORIES:2022 Events
ATTACH;FMTTYPE=image/jpeg:https://myvqha.com/wp-content/uploads/2022/10/Turkey_Small.jpg
END:VEVENT
BEGIN:VEVENT
DTSTART;VALUE=DATE:20221104
DTEND;VALUE=DATE:20221107
DTSTAMP:20260421T005552
CREATED:20220817T180928Z
LAST-MODIFIED:20221011T135135Z
UID:3663-1667520000-1667779199@myvqha.com
SUMMARY:Jack O’Latern Classic
DESCRIPTION:There will be a level 1 show on Friday with a regular AQHA show on Saturday and Sunday. \n  \nShowbill- (updated 10/11/22) \n  \nContact Jamie Falk at 1-910-382-6452 for stall and camper reservations.
URL:https://myvqha.com/event/jack-o-lantern-classic/
LOCATION:The Meadow Event Park\, 13191 Dawn Blvd\, Doswell\, VA\, 23047\, United States
CATEGORIES:2022 Events
ATTACH;FMTTYPE=image/png:https://myvqha.com/wp-content/uploads/2021/10/JackOLantern.png
END:VEVENT
BEGIN:VEVENT
DTSTART;VALUE=DATE:20220819
DTEND;VALUE=DATE:20220822
DTSTAMP:20260421T005552
CREATED:20220727T125242Z
LAST-MODIFIED:20220727T125343Z
UID:3645-1660867200-1661126399@myvqha.com
SUMMARY:District V Endless Summer Show
DESCRIPTION:  \nClick Here for more information. \n  \n 
URL:https://myvqha.com/event/district-v-endless-summer-show/
LOCATION:Senator Bob Martin Eastern Agricultural Center\, 2900 NC-125\, Williamston\, NC 27892\, Williamston\, North Carolina\, 27892\, United States
CATEGORIES:2022 Events
END:VEVENT
BEGIN:VEVENT
DTSTART;VALUE=DATE:20220715
DTEND;VALUE=DATE:20220718
DTSTAMP:20260421T005552
CREATED:20220312T203117Z
LAST-MODIFIED:20220312T203117Z
UID:3598-1657843200-1658102399@myvqha.com
SUMMARY:Little River Circuit
DESCRIPTION:
URL:https://myvqha.com/event/little-river-circuit/
LOCATION:Senator Bob Martin Eastern Agricultural Center\, 2900 NC-125\, Williamston\, NC 27892\, Williamston\, North Carolina\, 27892\, United States
CATEGORIES:2022 Events
END:VEVENT
BEGIN:VEVENT
DTSTART;VALUE=DATE:20220521
DTEND;VALUE=DATE:20220522
DTSTAMP:20260421T005552
CREATED:20220517T143938Z
LAST-MODIFIED:20220517T143938Z
UID:3624-1653091200-1653177599@myvqha.com
SUMMARY:VQHYA Letters of Intent Are Due
DESCRIPTION:Letters of Intent are due on May 21\,2021 for any youth members who wish to be a part of the 2022 AQHA World Show and Congress Team. \nLetters of Intent are available here. 
URL:https://myvqha.com/event/vqhya-letters-of-intent-are-due/
CATEGORIES:2022 Events
END:VEVENT
BEGIN:VEVENT
DTSTART;VALUE=DATE:20220520
DTEND;VALUE=DATE:20220523
DTSTAMP:20260421T005552
CREATED:20220312T200305Z
LAST-MODIFIED:20220506T232559Z
UID:3589-1653004800-1653263999@myvqha.com
SUMMARY:Virginia National Stock Horse Show
DESCRIPTION:ALL NOVICE SHOW ON FRIDAY\, MAY 20\nVRH SPECIAL EVENT ON FRIDAY\, MAY 20\nSPLIT COMBINED SCHEDULE ON SATURDAY and SUNDAY\, MAY 21 & 22 \nJUDGES: \nFriday Novice Show: Don Jox Friday Special VRH Event: Nancy Swarm \nSaturday and Sunday: Rick Baker and Jim Isley \n  \nShowbill – (Updated- 5/6/2022) \n  \n 
URL:https://myvqha.com/event/virginia-national-stock-horse-show/
LOCATION:The Meadow Event Park\, 13191 Dawn Blvd\, Doswell\, VA\, 23047\, United States
CATEGORIES:2022 Events
END:VEVENT
BEGIN:VEVENT
DTSTART;VALUE=DATE:20220331
DTEND;VALUE=DATE:20220404
DTSTAMP:20260421T005552
CREATED:20211025T180106Z
LAST-MODIFIED:20211025T181106Z
UID:3456-1648684800-1649030399@myvqha.com
SUMMARY:Martinganza Quarter Horse Show and Futurity
DESCRIPTION:Click Here for more information. \n  \n 
URL:https://myvqha.com/event/martinganza-quarter-horse-show-and-futurity/
LOCATION:Senator Bob Martin Eastern Agricultural Center\, 2900 NC-125\, Williamston\, NC 27892\, Williamston\, North Carolina\, 27892\, United States
CATEGORIES:2022 Events
ATTACH;FMTTYPE=image/png:https://myvqha.com/wp-content/uploads/2021/10/Martinganza.png
END:VEVENT
BEGIN:VEVENT
DTSTART;VALUE=DATE:20220324
DTEND;VALUE=DATE:20220328
DTSTAMP:20260421T005552
CREATED:20211112T202507Z
LAST-MODIFIED:20211112T202507Z
UID:3485-1648080000-1648425599@myvqha.com
SUMMARY:VQHA Spring Breakout
DESCRIPTION:
URL:https://myvqha.com/event/vqha-spring-breakout/
LOCATION:Virginia Horse Center\, 487 Maury River Road\, Lexington\, VA\, 24450\, United States
CATEGORIES:2022 Events
END:VEVENT
END:VCALENDAR