BEGIN:VCALENDAR
VERSION:2.0
PRODID:-//Virginia Quarter Horse Association - ECPv6.15.20//NONSGML v1.0//EN
CALSCALE:GREGORIAN
METHOD:PUBLISH
X-ORIGINAL-URL:https://myvqha.com
X-WR-CALDESC:Events for Virginia Quarter Horse Association
REFRESH-INTERVAL;VALUE=DURATION:PT1H
X-Robots-Tag:noindex
X-PUBLISHED-TTL:PT1H
BEGIN:VTIMEZONE
TZID:UTC
BEGIN:STANDARD
TZOFFSETFROM:+0000
TZOFFSETTO:+0000
TZNAME:UTC
DTSTART:20240101T000000
END:STANDARD
END:VTIMEZONE
BEGIN:VEVENT
DTSTART;TZID=UTC:20251031T080000
DTEND;TZID=UTC:20251102T170000
DTSTAMP:20260422T145644
CREATED:20250107T190056Z
LAST-MODIFIED:20250904T193206Z
UID:4392-1761897600-1762102800@myvqha.com
SUMMARY:Jac O'Lantern Classic
DESCRIPTION:Showbill \nClick Here to reserve a stall
URL:https://myvqha.com/event/jac-olantern-classic/
LOCATION:The Meadow Event Park\, 13191 Dawn Blvd\, Doswell\, VA\, 23047\, United States
CATEGORIES:2025 Events
ATTACH;FMTTYPE=image/png:https://myvqha.com/wp-content/uploads/2021/10/JackOLantern.png
END:VEVENT
BEGIN:VEVENT
DTSTART;VALUE=DATE:20251121
DTEND;VALUE=DATE:20251124
DTSTAMP:20260422T145644
CREATED:20241112T140241Z
LAST-MODIFIED:20251021T183359Z
UID:4353-1763683200-1763942399@myvqha.com
SUMMARY:Virginia Harvest Festival
DESCRIPTION:Click here for the show flyer.  \nClick here for the showbill.
URL:https://myvqha.com/event/virginia-harvest-festival/
LOCATION:Virginia Horse Center\, 487 Maury River Road\, Lexington\, VA\, 24450\, United States
CATEGORIES:2025 Events
ORGANIZER;CN="AB Management Services":MAILTO:abshowmanagement@gmail.com
END:VEVENT
END:VCALENDAR